BEGIN:VCALENDAR
VERSION:2.0
PRODID:-//Stour Row Community Website - ECPv6.15.3//NONSGML v1.0//EN
CALSCALE:GREGORIAN
METHOD:PUBLISH
X-ORIGINAL-URL:https://stourrowvillage.org
X-WR-CALDESC:Events for Stour Row Community Website
REFRESH-INTERVAL;VALUE=DURATION:PT1H
X-Robots-Tag:noindex
X-PUBLISHED-TTL:PT1H
BEGIN:VTIMEZONE
TZID:Europe/London
BEGIN:DAYLIGHT
TZOFFSETFROM:+0000
TZOFFSETTO:+0100
TZNAME:BST
DTSTART:20190331T010000
END:DAYLIGHT
BEGIN:STANDARD
TZOFFSETFROM:+0100
TZOFFSETTO:+0000
TZNAME:GMT
DTSTART:20191027T010000
END:STANDARD
END:VTIMEZONE
BEGIN:VEVENT
DTSTART;TZID=Europe/London:20191220T180000
DTEND;TZID=Europe/London:20191220T190000
DTSTAMP:20260423T225714
CREATED:20191208T091012Z
LAST-MODIFIED:20191208T091019Z
UID:1198-1576864800-1576868400@stourrowvillage.org
SUMMARY:Crib Service
DESCRIPTION:Crib Sevice with carols and the story of Christ’s birth with the crib being brought to life by the children.  Seasonal refreshments afterwards.
URL:https://stourrowvillage.org/event/crib-service/
LOCATION:Village Hall\, Stour Row\, Shaftesbury\, Dorset\, SP7 0QF\, United Kingdom
END:VEVENT
BEGIN:VEVENT
DTSTART;TZID=Europe/London:20191129T193000
DTEND;TZID=Europe/London:20191129T220000
DTSTAMP:20260423T225714
CREATED:20190901T123724Z
LAST-MODIFIED:20190901T123911Z
UID:1161-1575055800-1575064800@stourrowvillage.org
SUMMARY:The Stroll Inn – Stour Row Pop-up Pub
DESCRIPTION:‘The Stroll Inn’ is pleased to confirm that the next pub night will be on: Friday 29th November from 7:30pm in the Village Hall\, …which will once again be transformed into the Village Pub with a good range of beers\, ciders\, wine and soft drinks on sale at very reasonable prices.  We hope to see as many of you as possible there.  
URL:https://stourrowvillage.org/event/the-stroll-inn-stour-row-pop-up-pub-3/
LOCATION:Village Hall\, Stour Row\, Shaftesbury\, Dorset\, SP7 0QF\, United Kingdom
CATEGORIES:Social
END:VEVENT
BEGIN:VEVENT
DTSTART;TZID=Europe/London:20191109T183000
DTEND;TZID=Europe/London:20191109T213000
DTSTAMP:20260423T225714
CREATED:20190708T074938Z
LAST-MODIFIED:20190925T151336Z
UID:1143-1573324200-1573335000@stourrowvillage.org
SUMMARY:Stour Row Quiz Night
DESCRIPTION:Join us for a Fun Quiz including hot supper\, a bar and raffle.  November 9th\, 7pm start.    Tables of up to 8 – form your own team or join a table on the night.  £8 per person in advance\, or £10 on the door.  All proceeds to the Village Hall fund.  See more details below.  Please apply for tickets using the Contact Us page of this website.
URL:https://stourrowvillage.org/event/stour-row-quiz-night/
LOCATION:Dorset
END:VEVENT
BEGIN:VEVENT
DTSTART;TZID=Europe/London:20190830T193000
DTEND;TZID=Europe/London:20190830T220000
DTSTAMP:20260423T225714
CREATED:20190709T070133Z
LAST-MODIFIED:20190709T070138Z
UID:1139-1567193400-1567202400@stourrowvillage.org
SUMMARY:The Stroll Inn – Stour Row Pop-up Pub
DESCRIPTION:‘The Stroll Inn’ is pleased to confirm that the next pub night will be on: Friday 30th August from 7:30pm in the Village Hall\, …which will once again be transformed into the Village Pub with a good range of beers\, ciders\, wine and soft drinks on sale at very reasonable prices.  We hope to see as many of you as possible there.  
URL:https://stourrowvillage.org/event/the-stroll-inn-stour-row-pop-up-pub-2/
LOCATION:Village Hall\, Stour Row\, Shaftesbury\, Dorset\, SP7 0QF\, United Kingdom
END:VEVENT
BEGIN:VEVENT
DTSTART;TZID=Europe/London:20190728T140000
DTEND;TZID=Europe/London:20190728T160000
DTSTAMP:20260423T225714
CREATED:20190719T160615Z
LAST-MODIFIED:20190719T161208Z
UID:1148-1564322400-1564329600@stourrowvillage.org
SUMMARY:Open Garden\, Plant and Pot Sale
DESCRIPTION:Open Garden\, Plant and Pot Sale at Branscombe Cottage (next to the kennels) in aid of Parkinson’s UK.  All welcome.  \n\n\n\nBranscombe Cottage\, Stour Row\, SP7 0QW
URL:https://stourrowvillage.org/event/stour-row-event-for-charity/
LOCATION:Dorset
END:VEVENT
BEGIN:VEVENT
DTSTART;TZID=Europe/London:20190726T193000
DTEND;TZID=Europe/London:20190726T210000
DTSTAMP:20260423T225714
CREATED:20190707T210933Z
LAST-MODIFIED:20190708T071331Z
UID:1137-1564169400-1564174800@stourrowvillage.org
SUMMARY:Annual General Meeting of the Village Hall Committee
DESCRIPTION:The Annual General Meeting of the Village Hall Committee will be held on Friday 26th July at 7.30pm in the village hall.  All welcome.
URL:https://stourrowvillage.org/event/annual-general-meeting-of-the-village-hall-committee/
LOCATION:Village Hall\, Stour Row\, Shaftesbury\, Dorset\, SP7 0QF\, United Kingdom
END:VEVENT
BEGIN:VEVENT
DTSTART;TZID=Europe/London:20190707T123000
DTEND;TZID=Europe/London:20190707T170000
DTSTAMP:20260423T225714
CREATED:20190510T220814Z
LAST-MODIFIED:20190514T192740Z
UID:1109-1562502600-1562518800@stourrowvillage.org
SUMMARY:Stour Row Village Fete and Fun Dog Show
DESCRIPTION:Join us for the 2019 Stour Row Village Fete and Fun Dog Show.  Many stalls & activities including: Teas\, Crafts\, Cake stall\, Tombola\, ‘Have a go’ dog agility\,  Grand raffle. \n\n\n\nStour Row Village Fete and Fun Dog Show
URL:https://stourrowvillage.org/event/stour-row-village-fete-and-fund-dog-show/
LOCATION:Dog Training Centre\,\, Green Lane\, Stour Row\, Dorset\, SP7 0QD\, United Kingdom
END:VEVENT
BEGIN:VEVENT
DTSTART;TZID=Europe/London:20190629T100000
DTEND;TZID=Europe/London:20190629T123000
DTSTAMP:20260423T225714
CREATED:20190607T103357Z
LAST-MODIFIED:20190607T103402Z
UID:1133-1561802400-1561811400@stourrowvillage.org
SUMMARY:Stour Row Walkers - next walk
DESCRIPTION:Please join us for a 5 mile walk from Kington Magna to Nyland.  Leaving Kington Magna church at 10am. \n\n\n\nThere is limited parking at the church so please share transport where possible.  Well-behaved dogs (on leads please) welcome.  There will be stiles and probably livestock. \n\n\n\nMore details at https://www.stourvalewalkers.uk/ or contact Martin at stours.footpaths@gmail.com or on 07816 498544.  It is very helpful to know numbers on the walk in advance.
URL:https://stourrowvillage.org/event/stour-row-walkers-next-walk/
LOCATION:Dorset
END:VEVENT
BEGIN:VEVENT
DTSTART;TZID=Europe/London:20190621T193000
DTEND;TZID=Europe/London:20190621T220000
DTSTAMP:20260423T225714
CREATED:20190423T205029Z
LAST-MODIFIED:20190423T205329Z
UID:1088-1561145400-1561154400@stourrowvillage.org
SUMMARY:The Stroll Inn – Stour Row Pop-up Pub
DESCRIPTION:‘The Stroll Inn’ is pleased to confirm that the next pub night will be on: Friday 21st June from 7:30pm in the Village Hall\, …which will once again be transformed into the Village Pub with a good range of beers\, ciders\, wine and soft drinks on sale at very reasonable prices.  We hope to see as many of you as possible there.  If you enjoyed previous times please do come along and join us again and if you have missed them why not come along and find out what everyone is raving about?    https://stourrowvillage.org/stour-row/the-stroll-inn-pop-up-pub-is-a-huge-hit/All welcome – do please bring your friends\, neighbours\, house guests etc.
URL:https://stourrowvillage.org/event/the-stroll-inn-stour-row-pop-up-pub/
LOCATION:Village Hall\, Stour Row\, Shaftesbury\, Dorset\, SP7 0QF\, United Kingdom
END:VEVENT
BEGIN:VEVENT
DTSTART;TZID=Europe/London:20190527T110000
DTEND;TZID=Europe/London:20190527T150000
DTSTAMP:20260423T225714
CREATED:20190515T083609Z
LAST-MODIFIED:20190515T083636Z
UID:1127-1558954800-1558969200@stourrowvillage.org
SUMMARY:Stour Vale Walkers Bank Holiday Walk
DESCRIPTION:Our May walk will be on Bank Holiday Monday\, not the usual Saturday. We will join the White Hart Link project to launch the section of the route between Stourpaine and Blandford Forum. Visit the White Hart Link website https://www.whitehartlink.uk/ to find out more about the project. \n\n\n\nParking at the Stourpaine Village Hall by kind permission.Leaving at 11am\, we will follow the Trailway to Blandford Forum\, where we will be greeted by the Mayor and then proceed to Stour Meadows for a picnic lunch (bring your own picnic!). \n\n\n\nOptional return walk to Stourpaine along the same route. You may prefer to make your own transport arrangements and leave a car in Blandford (Stour Meadows car park recommended).\n\n \n\n\n\n It would be helpful if you would let Martin Hibbert know if you will be coming on the walk. You can contact Martin by email stours.footpaths@gmail.com or by phone 07816-498544.   \n\n\n\nthis month’s walk
URL:https://stourrowvillage.org/event/stour-vale-walkers-bank-holiday-walk/
LOCATION:Dorset
END:VEVENT
BEGIN:VEVENT
DTSTART;TZID=Europe/London:20190504T140000
DTEND;TZID=Europe/London:20190506T170000
DTSTAMP:20260423T225714
CREATED:20190419T195954Z
LAST-MODIFIED:20190419T212426Z
UID:1067-1556978400-1557162000@stourrowvillage.org
SUMMARY:Exhibition of the Sambhali Trust Embroidered Panels 4th - 6th May 2019 2-5pm
DESCRIPTION:The purpose of the exhibition is to publicise the work of the Sambhali Trust (www.sambhali-trust.org) and raise funds. The Trust focuses on the development and empowerment of deprived women and children in Rajasthan. It provides education\, vocational training and social skills to enable them to become financially independent.The 13 panels have been created from embroidery pieces designed and made by women in the empowerment and sewing centres. They depict the story of Sambhali\, what it means to the women in the centres and how it has changed their lives. Over 200 women and children have been involved in the project.
URL:https://stourrowvillage.org/event/exhibition-of-the-sambhali-trust-embroidered-panels-4th-6th-may-2019-2-5pm/
LOCATION:Hawkers Farm\, Stour Provost SP8 5LZ\, Stour Provost\, SP8 5LZ\, United Kingdom
CATEGORIES:Fundraising
END:VEVENT
BEGIN:VEVENT
DTSTART;TZID=Europe/London:20190428T140000
DTEND;TZID=Europe/London:20190428T150000
DTSTAMP:20260423T225714
CREATED:20190426T161042Z
LAST-MODIFIED:20190426T164632Z
UID:1099-1556460000-1556463600@stourrowvillage.org
SUMMARY:Village Fete organisation meeting
DESCRIPTION:This year we are hoping to run a village fete & fun dog show in the summer on Sunday 7th July\, to raise much needed funds for the maintenance of the village hall. \n\n\n\nVolunteers are needed to make this event a success\, so there will be a meeting for anyone who could offer to help organise and run stalls/activities. \n\n\n\nThe meeting will be held in the rear garden of the dog training centre on Green Lane next Sunday 28th April at 2pm to finalise commitments for the planned event.
URL:https://stourrowvillage.org/event/village-fete-organisation-meeting/
LOCATION:Dorset
END:VEVENT
BEGIN:VEVENT
DTSTART;TZID=Europe/London:20190427T100000
DTEND;TZID=Europe/London:20190427T130000
DTSTAMP:20260423T225714
CREATED:20190419T204724Z
LAST-MODIFIED:20190419T210820Z
UID:1071-1556359200-1556370000@stourrowvillage.org
SUMMARY:Stour Vale Walkers
DESCRIPTION:A varied walk of five miles from the Ship Inn\, West Stour\, visiting Fifehead Wood and Kington Magna church\, where there will be a visit the Artisan Coffee and Crafts morning held in the church\, and returning to the Ship Inn by 1pm. \n\n\n\nMore details and map of the route at https://www.stourvalewalkers.uk/ Be aware that we will cross farmland and that you walk at your own risk. Well behaved dogs (on leads please) are welcome.  \n\n\n\nIt would be helpful if you would let Martin Hibbert know if you will be coming on the walk. You can contact Martin by email stours.footpaths@gmail.com or by phone 07816-498544.
URL:https://stourrowvillage.org/event/stour-vale-walkers/
LOCATION:Dorset
CATEGORIES:Health and wellbeing,Social
ORGANIZER;CN="Martin Hibbert":MAILTO:stours.footpaths@gmail.com
END:VEVENT
BEGIN:VEVENT
DTSTART;TZID=Europe/London:20190329T193000
DTEND;TZID=Europe/London:20190329T223000
DTSTAMP:20260423T225714
CREATED:20190206T140824Z
LAST-MODIFIED:20190206T144329Z
UID:845-1553887800-1553898600@stourrowvillage.org
SUMMARY:The Stroll Inn - pop-up pub
DESCRIPTION:Join us for another convivial evening in the Stour Row’s very own occasional pub: The Stroll Inn﻿
URL:https://stourrowvillage.org/event/the-stroll-inn-pop-up-pub/
LOCATION:Village Hall\, Stour Row\, Shaftesbury\, Dorset\, SP7 0QF\, United Kingdom
CATEGORIES:Social
END:VEVENT
BEGIN:VEVENT
DTSTART;TZID=Europe/London:20190207T163000
DTEND;TZID=Europe/London:20190207T190000
DTSTAMP:20260423T225714
CREATED:20190206T143045Z
LAST-MODIFIED:20190206T143005Z
UID:848-1549557000-1549566000@stourrowvillage.org
SUMMARY:Pilates
DESCRIPTION:Pilates – Thursdays\, 5.45-6.45pm Beginners/Improvers. 7.00-8.00pm Intermediate  Please contact Andrea Bird on 07974 997181\, email andrea@pilatesforyou.org or follow the link for more details: www.pilatesforyou.org  
URL:https://stourrowvillage.org/event/pilates/
LOCATION:Village Hall\, Stour Row\, Shaftesbury\, Dorset\, SP7 0QF\, United Kingdom
CATEGORIES:Health and wellbeing
END:VEVENT
END:VCALENDAR